BEGIN:VCALENDAR
VERSION:2.0
PRODID:-//Kilkenny Castle - ECPv6.15.20//NONSGML v1.0//EN
CALSCALE:GREGORIAN
METHOD:PUBLISH
X-WR-CALNAME:Kilkenny Castle
X-ORIGINAL-URL:https://www.kilkennycastle.ie
X-WR-CALDESC:Events for Kilkenny Castle
REFRESH-INTERVAL;VALUE=DURATION:PT1H
X-Robots-Tag:noindex
X-PUBLISHED-TTL:PT1H
BEGIN:VTIMEZONE
TZID:Europe/Dublin
BEGIN:STANDARD
TZOFFSETFROM:+0000
TZOFFSETTO:+0100
TZNAME:IST
DTSTART:20230326T010000
END:STANDARD
BEGIN:DAYLIGHT
TZOFFSETFROM:+0100
TZOFFSETTO:+0000
TZNAME:GMT
DTSTART:20231029T010000
END:DAYLIGHT
BEGIN:STANDARD
TZOFFSETFROM:+0000
TZOFFSETTO:+0100
TZNAME:IST
DTSTART:20240331T010000
END:STANDARD
BEGIN:DAYLIGHT
TZOFFSETFROM:+0100
TZOFFSETTO:+0000
TZNAME:GMT
DTSTART:20241027T010000
END:DAYLIGHT
BEGIN:STANDARD
TZOFFSETFROM:+0000
TZOFFSETTO:+0100
TZNAME:IST
DTSTART:20250330T010000
END:STANDARD
BEGIN:DAYLIGHT
TZOFFSETFROM:+0100
TZOFFSETTO:+0000
TZNAME:GMT
DTSTART:20251026T010000
END:DAYLIGHT
END:VTIMEZONE
BEGIN:VEVENT
DTSTART;TZID=Europe/Dublin:20241130T110000
DTEND;TZID=Europe/Dublin:20241130T120000
DTSTAMP:20260425T123552
CREATED:20240924T103809Z
LAST-MODIFIED:20241030T163956Z
UID:10000147-1732964400-1732968000@www.kilkennycastle.ie
SUMMARY:Kilkenny's Toil and Trouble Festival: Bishop Ledrede and Other Prisoners of Kilkenny's Medieval Castle Tour
DESCRIPTION:OPW Kilkenny Castle is delighted to be part of Kilkenny’s Toil and Trouble Festival. As part of the Festival\, this talk and tour will be given by archaeologist and historian\, Ben Murtagh\, who has spent many years excavating and working on Kilkenny Castle. As a chief centre of the medieval lordships of Leinster and Kilkenny\, he will describe and discuss during his tour the use of the castle as a seat of the local feudal court\, where justice was dispensed. For this and other purposes it was also used as a gaol\, where prisoners were held\, including the famous Bishop Ledrede when he dared to prosecute Dame Alice Kyteler in 1324. \nSaturday 30 November 2024 at Kilkenny Castle at 11am and again at 2:30pm \nBooking is essential and places are limited. Book at kilkennycastleevents@opw.ie \nPlease note that part of this tour will be conducted outdoors so weather appropriate clothing is advised \nFor more information on all the events happening in Kilkenny as part of the Festival visit https://content.kilkenny.ie/toilandtrouble/index.html
URL:https://www.kilkennycastle.ie/event/bishop-ledrede-and-other-prisoners-of-kilkennys-medieval-castle-talk/2024-11-30/
LOCATION:Kilkenny Castle\, OPW Kilkenny Castle\, Kilkenny\, Kilkenny\, R95YRK1\, Ireland
CATEGORIES:Talk,Tour
ATTACH;FMTTYPE=image/jpeg:https://www.kilkennycastle.ie/wp-content/uploads/2024/09/autumn-at-kilkenny-castle-4096x2985-1-scaled.jpg
GEO:52.650501432133794-7.249138136900574;-7.249138136900574
X-APPLE-STRUCTURED-LOCATION;VALUE=URI;X-ADDRESS=Kilkenny Castle OPW Kilkenny Castle Kilkenny Kilkenny R95YRK1 Ireland;X-APPLE-RADIUS=500;X-TITLE=OPW Kilkenny Castle:geo:-7.249138136900574,52.650501432133794-7.249138136900574
END:VEVENT
END:VCALENDAR