BEGIN:VCALENDAR
VERSION:2.0
PRODID:-//Kilkenny Castle - ECPv6.15.20//NONSGML v1.0//EN
CALSCALE:GREGORIAN
METHOD:PUBLISH
X-WR-CALNAME:Kilkenny Castle
X-ORIGINAL-URL:https://www.kilkennycastle.ie
X-WR-CALDESC:Events for Kilkenny Castle
REFRESH-INTERVAL;VALUE=DURATION:PT1H
X-Robots-Tag:noindex
X-PUBLISHED-TTL:PT1H
BEGIN:VTIMEZONE
TZID:Europe/Dublin
BEGIN:STANDARD
TZOFFSETFROM:+0000
TZOFFSETTO:+0100
TZNAME:IST
DTSTART:20230326T010000
END:STANDARD
BEGIN:DAYLIGHT
TZOFFSETFROM:+0100
TZOFFSETTO:+0000
TZNAME:GMT
DTSTART:20231029T010000
END:DAYLIGHT
BEGIN:STANDARD
TZOFFSETFROM:+0000
TZOFFSETTO:+0100
TZNAME:IST
DTSTART:20240331T010000
END:STANDARD
BEGIN:DAYLIGHT
TZOFFSETFROM:+0100
TZOFFSETTO:+0000
TZNAME:GMT
DTSTART:20241027T010000
END:DAYLIGHT
BEGIN:STANDARD
TZOFFSETFROM:+0000
TZOFFSETTO:+0100
TZNAME:IST
DTSTART:20250330T010000
END:STANDARD
BEGIN:DAYLIGHT
TZOFFSETFROM:+0100
TZOFFSETTO:+0000
TZNAME:GMT
DTSTART:20251026T010000
END:DAYLIGHT
END:VTIMEZONE
BEGIN:VEVENT
DTSTART;TZID=Europe/Dublin:20240730T200000
DTEND;TZID=Europe/Dublin:20240730T223000
DTSTAMP:20260422T123357
CREATED:20240730T130342Z
LAST-MODIFIED:20240730T130344Z
UID:10000115-1722369600-1722378600@www.kilkennycastle.ie
SUMMARY:Scoil na gCláirseach – Festival of Early Irish Harp Concerts
DESCRIPTION:OPW Kilkenny Castle is very pleased to welcome Scoil na gCláirseach – Festival of Early Irish Harp\, which returns to Kilkenny this July.  Two evening concerts as follows will be hosted at The Parade Tower. \nThe second of the two concerts will take place this evening – Tuesday 30 July at 8pm  \nTUESDAY 30 JULY\, 8:00 pm\nGIVE ME YOUR HAND – MUSIC OF THE 1600S FOR A GAELIC CASTLE\nAllan MacDonald\, voice and small pipes\nTamzin Elliott\, early Irish harp\nRóisín O’Grady\, soprano\nToby Carr\, Renaissance lute  \nDescribed as ‘the single most important living source of Gaelic musical culture’\, acclaimed Scottish piper\, and singer\, Allan MacDonald\, makes a rare Kilkenny appearance this July.  He will be joined by historical harpist\, Tamzin Elliott – in their Irish debut – playing the ravishing\, ancient Irish harp\, with its rare brass-wire strings. Also performing at this one-off Kilkenny date is rising British star of the Renaissance lute\, Toby Carr\, and historical-music soprano\, Róisín O’Grady\, in a programme of intimate music from Scotland\, Ireland\, England and France in the evocative surroundings of the late 12c Parade Tower at Kilkenny Castle. \nTickets:  Tickets   – https://festival.irishharp.org/tickets\n€18 / €12 (student & unwaged)\n€28 (both concerts)\nNo live streaming: concert videos will be available to all ticket holders from Aug. to Dec. \nFurther information:  Facebook  – https://www.facebook.com/historicalharpsocietyofIreland/
URL:https://www.kilkennycastle.ie/event/scoil-na-gclairseach-festival-of-early-irish-harp-concerts-2/
LOCATION:Kilkenny
CATEGORIES:Music
ATTACH;FMTTYPE=image/jpeg:https://www.kilkennycastle.ie/wp-content/uploads/2024/07/Summer-Concerts-2024-A4-jpeg-2-scaled.jpg
END:VEVENT
END:VCALENDAR